BEGIN:VCALENDAR
VERSION:2.0
PRODID:-//wp-events-plugin.com//7.2.3.1//EN
TZID:Europe/Amsterdam
X-WR-TIMEZONE:Europe/Amsterdam
BEGIN:VEVENT
UID:77@activityinternational.nl
DTSTART;TZID=Europe/Amsterdam:20260926T000000
DTEND;TZID=Europe/Amsterdam:20260926T000000
DTSTAMP:20260112T112054Z
URL:https://activityinternational.nl/events/informatiemiddag-over-onze-rei
 zen-4/
SUMMARY:Informatiemiddag over onze reizen
DESCRIPTION:Heb jij plannen om een mooie reis te gaan maken? Droom jij van 
 een buitenlandavontuur? Op reis tijdens je Tussenjaar? Durf jij de stap (b
 ijna) te zetten maar heb je nog wel wat vragen over je reis of gewoon zin 
 om met ons je plannen te bespreken? Kom dan op zaterdag 26 september 2026 
 tussen 13.00 - 16.30 uur langs bij Activity International op ons kantoor i
 n de Spinnerij in Enschede.\n\nNaast een aantal presentaties kun je deze m
 iddag vooral bij ons terecht voor advies en informatie. Of je nou gaat bac
 kpacken in Australië tijdens een tussenjaar\, vrijwilligerswerk gaat do
 en na je studie\, wilt helpen bij een wildlifeproject\, of onze Kickstart 
 Reizen interessant vindt\, je mag deze middag over alles - maar dan ook al
 les - je vragen stellen. We helpen je graag verder!\nPresentaties\n\n\n\n1
 3.00 uur - 13.50 uur\nPresentatie over backpacken in Australië en Nieuw-Z
 eeland (o.a. City to Reef / Oostkust reizen en Ultimate OZ)\n\n\n14.00 uur
  - 14.50 uur\nPresentatie over Vrijwilligerswerk (o.a. Kruger to Coast / C
 ape\, Sri Lanka\, Kaapstad)\n\n\n15:00 uur - 16:00 uur\nPresentatie over d
 e Kickstart Reizen (met focus op Costa Rica) en Wildlifeprojecten (o.a. Mo
 nkey Rehab\, Namibië\, KwaZulu Big 5)\n\n\n\nHeb je interesse in High Sch
 ool USA en / of Nieuw-Zeeland of in ons Au Pair programma? Stuur ons een m
 ail en dan plannen we een persoonlijke (online) afspraak.\nWaar wordt de i
 nfodag gehouden?\nActivity International\nSpinnerij Oosterveld\nRigtersble
 ek-Zandvoort 10\n7521 BE Enschede\n\nJe kunt hier gratis parkeren.\nMeld j
 e aan!\nAls je op 26 september onze infodag wilt bezoeken\, meld je dan aa
 n. Je kunt daarvoor het onderstaande formulier gebruiken. Laat even weten 
 welke presentatie(s) je wilt bijwonen en met hoeveel mensen je komt. En al
 s je al een brandende vraag hebt\, dan kun je die ook alvast stellen. Wij 
 zullen je vervolgens op de hoogte houden en een week voor de infodag de la
 atste info mailen.\nHulp gezocht – wij willen oude slaapzakken!\nIn ons 
 prachtige pand is ook Sheltersuit gevestigd. Een geweldig initiatief waarb
 ij van o.a. oude slaapzakken speciale jassen worden gemaakt voor daklozen 
 over de hele wereld. Liggen er bij jou thuis al lange tijd een aantal oude
  slaapzakken op zolder\, of in de weg? Neem ze dan mee en lever ze op onze
  infomiddag in. Wij zorgen dat Sheltersuit ze ontvangt zodat ze meer mense
 n kunnen helpen.\n\n\n\nSheltersuit: warmte met een tweede leven\nEen Shel
 tersuit is meer dan alleen bescherming tegen kou en regen. Hij wordt gemaa
 kt van geüpcyclede materialen\, waaronder ingezamelde slaapzakken. Wat an
 ders afval zou zijn\, krijgt zo een tweede leven en verandert in een warme
 \, water- en winddichte jas die eenvoudig tot slaapzak kan worden omgetove
 rd. Zo beschermen we niet alleen mensen zonder thuis\, maar ook onze plane
 et. Help jij mee? Doneer dan je slaapzak. Samen maken we het verschil!\n\n
 \n\n[contact-form-7 id="10126fc" title="Contactformulier infodag 26 septem
 ber 2026"]
LOCATION:Activity International\, Rigtersbleek Zandvoort 10\, Enschede\, 75
 21 BE \, Nederland
GEO:52.2224936;6.871797300000026
X-APPLE-STRUCTURED-LOCATION;VALUE=URI;X-ADDRESS=Rigtersbleek Zandvoort 10\,
  Enschede\, 7521 BE \, Nederland;X-APPLE-RADIUS=100;X-TITLE=Activity Inter
 national:geo:52.2224936,6.871797300000026
END:VEVENT
BEGIN:VTIMEZONE
TZID:Europe/Amsterdam
X-LIC-LOCATION:Europe/Amsterdam
BEGIN:DAYLIGHT
DTSTART:20260329T030000
TZOFFSETFROM:+0100
TZOFFSETTO:+0200
TZNAME:CEST
END:DAYLIGHT
END:VTIMEZONE
END:VCALENDAR