BEGIN:VCALENDAR
VERSION:2.0
PRODID:-//wp-events-plugin.com//7.2.3.1//EN
TZID:Europe/Amsterdam
X-WR-TIMEZONE:Europe/Amsterdam
BEGIN:VEVENT
UID:75@activityinternational.nl
DTSTART;TZID=Europe/Amsterdam:20260703T000000
DTEND;TZID=Europe/Amsterdam:20260703T000000
DTSTAMP:20251007T132026Z
URL:https://activityinternational.nl/events/de-tussenjaarbeurs/
SUMMARY:De Tussenjaarbeurs
DESCRIPTION:Activity International is aanwezig op de Tussenjaarbeurs die op
  3 juli 2026 wordt gehouden in Wageningen. Stel ons al jouw vragen over bu
 itenlandplannen tijdens jouw tussenjaar!\n\nMeld je gratis aan via de site
  van de Tussenjaarbeurs\nDe Tussenjaarbeurs\nInformatieve tussenjaarbeurs 
 voor iedereen die meer wil weten over een tussenjaar\nOf je nu een leerlin
 g\, student of afgestudeerde bent\, de beurs biedt mogelijkheden voor iede
 reen.\n\nOntmoet meer dan 30 organisaties \nVan stages tot (vrijwilligers
 )werk tot studie: ontdek diverse opties voor jouw tussenjaar\, met mogelij
 kheden in binnen- en buitenland.\n\nGratis toegang\nZowel de online als de
  gewone beurs is gratis toegankelijk. De online variant bestaat vooral uit
  presentaties en de mogelijkheid om vragen te stellen. De live variant bes
 taat uit een informatiemarkt en presentaties.
LOCATION:Universiteit Wageningen (Orion)\, Bronland 1\, Wageningen\, Nederl
 and
X-APPLE-STRUCTURED-LOCATION;VALUE=URI;X-ADDRESS=Bronland 1\, Wageningen\, N
 ederland;X-APPLE-RADIUS=100;X-TITLE=Universiteit Wageningen (Orion):geo:0,
 0
END:VEVENT
BEGIN:VTIMEZONE
TZID:Europe/Amsterdam
X-LIC-LOCATION:Europe/Amsterdam
BEGIN:DAYLIGHT
DTSTART:20260329T030000
TZOFFSETFROM:+0100
TZOFFSETTO:+0200
TZNAME:CEST
END:DAYLIGHT
END:VTIMEZONE
END:VCALENDAR